BEGIN:VCALENDAR
VERSION:2.0
PRODID:-//Tukios.com/
BEGIN:VEVENT
UID:6bbe428c-0431-4629-8fa8-c2769668a971@obituaries.covingtonmemorial.com
DTSTAMP:20260424T220432Z
DTSTART:20260430T153000Z
DTEND:20260430T163000Z
SUMMARY:Visitation
DESCRIPTION:
URL:https://obituaries.covingtonmemorial.com/obituaries/arthur-karolyi
LOCATION:Taylor Chapel Ministries 10145 Maysville Rd  Fort Wayne IN 46835
GEO:41.1288192;-85.0144128
END:VEVENT
END:VCALENDAR