BEGIN:VCALENDAR
VERSION:2.0
PRODID:-//Tukios.com/
BEGIN:VEVENT
UID:8d71d5de-8b5f-44a0-93da-6a3880f03718@obituaries.covingtonmemorial.com
DTSTAMP:20260424T220023Z
DTSTART:20260430T163000Z
DTEND:20260430T173000Z
SUMMARY:Funeral Service
DESCRIPTION:
URL:https://obituaries.covingtonmemorial.com/obituaries/arthur-karolyi
LOCATION:Taylor Chapel Ministries 10145 Maysville Rd  Fort Wayne IN 46835
GEO:41.1288192;-85.0144128
END:VEVENT
END:VCALENDAR