BEGIN:VCALENDAR
VERSION:2.0
PRODID:-//Tukios.com/
BEGIN:VEVENT
UID:03fef36d-a843-4cc6-a61c-e151c17f69b9@obituaries.covingtonmemorial.com
DTSTAMP:20260425T001538Z
DTSTART:20260430T190000Z
DTEND:20260430T230000Z
SUMMARY:Visitation
DESCRIPTION:
URL:https://obituaries.covingtonmemorial.com/obituaries/ashlye-smith
LOCATION: 8408 Covington Road  Ft. Wayne IN 46804
GEO:41.0602497;-85.2528826
END:VEVENT
END:VCALENDAR