BEGIN:VCALENDAR
VERSION:2.0
PRODID:-//Tukios.com/
BEGIN:VEVENT
UID:8f292f3f-a42f-4bc8-9d9a-06d83d97cb31@obituaries.covingtonmemorial.com
DTSTAMP:20260425T001652Z
DTSTART:20260501T160000Z
DTEND:20260501T170000Z
SUMMARY:Viewing
DESCRIPTION:
URL:https://obituaries.covingtonmemorial.com/obituaries/ashlye-smith
LOCATION: 8408 Covington Road  Ft. Wayne IN 46804
GEO:41.0602497;-85.2528826
END:VEVENT
END:VCALENDAR