BEGIN:VCALENDAR
VERSION:2.0
PRODID:-//Tukios.com/
BEGIN:VEVENT
UID:1ca27809-5bb6-4cc1-be55-4f04046e23e9@obituaries.covingtonmemorial.com
DTSTAMP:20260425T002329Z
DTSTART:20260501T170000Z
DTEND:20260501T180000Z
SUMMARY:Funeral Service
DESCRIPTION:
URL:https://obituaries.covingtonmemorial.com/obituaries/ashlye-smith
LOCATION: 8408 Covington Road  Ft. Wayne IN 46804
GEO:41.0602497;-85.2528826
END:VEVENT
END:VCALENDAR