BEGIN:VCALENDAR
VERSION:2.0
PRODID:-//Tukios.com/
BEGIN:VEVENT
UID:719d0a4e-63fb-4a56-9261-026c2a4e125c@obituaries.covingtonmemorial.com
DTSTAMP:20260425T001350Z
DTSTART:20260501
SUMMARY:Interment
DESCRIPTION:Following the service
URL:https://obituaries.covingtonmemorial.com/obituaries/ashlye-smith
LOCATION: 8408 Covington Rd  Fort Wayne IN 46804
GEO:41.0602949;-85.2529373
END:VEVENT
END:VCALENDAR