BEGIN:VCALENDAR
VERSION:2.0
PRODID:-//Tukios.com/
BEGIN:VEVENT
UID:76f046c3-fe4e-43bc-8862-8dbdcfa2ba03@obituaries.covingtonmemorial.com
DTSTAMP:20260420T122830Z
DTSTART:20260425T163000Z
DTEND:20260425T173000Z
SUMMARY:Funeral Service
DESCRIPTION:
URL:https://obituaries.covingtonmemorial.com/obituaries/darlene-kinney
LOCATION: 8408 Covington Road  Ft. Wayne IN 46804
GEO:41.0602497;-85.2528826
END:VEVENT
END:VCALENDAR