BEGIN:VCALENDAR
VERSION:2.0
PRODID:-//Tukios.com/
BEGIN:VEVENT
UID:0e056c17-ee2c-407e-93f7-e1779217f761@obituaries.covingtonmemorial.com
DTSTAMP:20260420T122515Z
DTSTART:20260424T190000Z
DTEND:20260424T230000Z
SUMMARY:Visitation
DESCRIPTION:
URL:https://obituaries.covingtonmemorial.com/obituaries/darlene-kinney
LOCATION: 8408 Covington Road  Ft. Wayne IN 46804
GEO:41.0602497;-85.2528826
END:VEVENT
END:VCALENDAR