BEGIN:VCALENDAR
VERSION:2.0
PRODID:-//Tukios.com/
BEGIN:VEVENT
UID:bba51531-66ab-4f86-a2d1-dfe6a69453ae@obituaries.covingtonmemorial.com
DTSTAMP:20260420T122047Z
DTSTART:20260425T173000Z
DTEND:20260425T183000Z
SUMMARY:Burial
DESCRIPTION:
URL:https://obituaries.covingtonmemorial.com/obituaries/darlene-kinney
LOCATION:Covington Memorial Gardens 8408 Covington Road  Fort Wayne IN 
	46804
GEO:41.0602949;-85.2529373
END:VEVENT
END:VCALENDAR