BEGIN:VCALENDAR
VERSION:2.0
PRODID:-//Tukios.com/
BEGIN:VEVENT
UID:a2e07253-a16e-48f2-8caa-b37649259d36@obituaries.covingtonmemorial.com
DTSTAMP:20260420T122501Z
DTSTART:20260424T223000Z
DTEND:20260424T230000Z
SUMMARY:Rosary
DESCRIPTION:
URL:https://obituaries.covingtonmemorial.com/obituaries/darlene-kinney
LOCATION: 8408 Covington Road  Ft. Wayne IN 46804
GEO:41.0602497;-85.2528826
END:VEVENT
END:VCALENDAR