BEGIN:VCALENDAR
VERSION:2.0
PRODID:-//Tukios.com/
BEGIN:VEVENT
UID:bc18a131-20af-4d16-aedd-d97e387334d4@obituaries.covingtonmemorial.com
DTSTAMP:20260420T122057Z
DTSTART:20260425T153000Z
DTEND:20260425T163000Z
SUMMARY:Visitation
DESCRIPTION:
URL:https://obituaries.covingtonmemorial.com/obituaries/darlene-kinney
LOCATION: 8408 Covington Road  Ft. Wayne IN 46804
GEO:41.0602497;-85.2528826
END:VEVENT
END:VCALENDAR