BEGIN:VCALENDAR
VERSION:2.0
PRODID:-//Tukios.com/
BEGIN:VEVENT
UID:d09ec841-7374-47d4-addf-0b3cd8056db6@obituaries.covingtonmemorial.com
DTSTAMP:20260423T185404Z
DTSTART:20260427T180000Z
DTEND:20260427T220000Z
SUMMARY:Visitation
DESCRIPTION:
URL:https://obituaries.covingtonmemorial.com/obituaries/max-lane
LOCATION:Covington Memorial Funeral Home 8408 Covington Road  Ft. Wayne 
	IN 46804
GEO:41.0602497;-85.2528826
END:VEVENT
END:VCALENDAR