BEGIN:VCALENDAR
VERSION:2.0
PRODID:-//Tukios.com/
BEGIN:VEVENT
UID:2932370b-08b4-4d46-ac51-428f6fadc3cb@obituaries.covingtonmemorial.com
DTSTAMP:20260423T185333Z
DTSTART:20260427T220000Z
DTEND:20260427T230000Z
SUMMARY:Funeral Service
DESCRIPTION:
URL:https://obituaries.covingtonmemorial.com/obituaries/max-lane
LOCATION:Covington Memorial Funeral Home 8408 Covington Road  Ft. Wayne 
	IN 46804
GEO:41.0602497;-85.2528826
END:VEVENT
END:VCALENDAR